BEGIN:VCALENDAR
VERSION:2.0
PRODID: -//CMS 5.0 //NONSGML //DE
BEGIN:VEVENT
SUMMARY:Frühjahrskonzert des Bezirksorchesters mit Solisten am 26. Apri
 l 2026 in der Gemeinde Unteres Filstal in Uhingen
DESCRIPTION:
UID:357050@www.nak-goeppingen-kirchheim.de
LOCATION:Uhingen
CATEGORIES:Bezirk (ohne Gemeinden)
X-ORGANIZER:
STATUS:CONFIRMED
CLASS:PUBLIC
DTSTART:20260426T160000Z
DTEND:20260426T160000Z
DTSTAMP:20260424T092248Z
CREATED:20260118T105520Z
LAST-MODIFIED:20260118T105813Z
END:VEVENT
BEGIN:VEVENT
SUMMARY:Konfirmations-Auftaktveranstaltung für alle Konfirmandinnen und
  Konfirmanden der Jahre 2027/2028 und deren Eltern
DESCRIPTION:<p>Um 20 Uhr in unserer Kirche in Ötlingen, Steigstraße 18
 &nbsp;</p>\n
UID:358939@www.nak-goeppingen-kirchheim.de
LOCATION:Ötlingen
CATEGORIES:Bezirk (ohne Gemeinden)
X-ORGANIZER:
STATUS:CONFIRMED
CLASS:PUBLIC
DTSTART:20260427T180000Z
DTEND:20260427T180000Z
DTSTAMP:20260424T092248Z
CREATED:20260211T220443Z
LAST-MODIFIED:20260211T221334Z
END:VEVENT
END:VCALENDAR
